BEGIN:VCALENDAR
VERSION:2.0
PRODID:-//Pollineringsprojektet - ECPv6.15.17.1//NONSGML v1.0//EN
CALSCALE:GREGORIAN
METHOD:PUBLISH
X-WR-CALNAME:Pollineringsprojektet
X-ORIGINAL-URL:https://pollinera.se
X-WR-CALDESC:Händelser för Pollineringsprojektet
REFRESH-INTERVAL;VALUE=DURATION:PT1H
X-Robots-Tag:noindex
X-PUBLISHED-TTL:PT1H
BEGIN:VTIMEZONE
TZID:UTC
BEGIN:STANDARD
TZOFFSETFROM:+0000
TZOFFSETTO:+0000
TZNAME:UTC
DTSTART:20250101T000000
END:STANDARD
END:VTIMEZONE
BEGIN:VEVENT
DTSTART;TZID=UTC:20260315T000000
DTEND;TZID=UTC:20260515T235959
DTSTAMP:20260420T012534
CREATED:20260311T121846Z
LAST-MODIFIED:20260311T130435Z
UID:303-1773532800-1778889599@pollinera.se
SUMMARY:Följ vårens första steg tillsammans med oss - var med och dela dina egna vårtecken!
DESCRIPTION:Dela gärna: \n\nen bild på tidig vårtecken (tussilago\, tibast\, vide\, sälg\, krokus\, hassel  – eller annat du ser)\nglöm inte att fota de första humledrottningar\, solitärbin\, fjärilar  eller andra vackra pollinatörer\ndatum\nungefärlig plats\n\nDu kan skicka dina obervationer via: \n\nDM på våra sociala medier\nmejl\neller genom att kommentera direkt under våra inlägg på Instagram\n\nAlla observationer är värdefulla  – även om du är osäkert på art eller stadium ( knoppbildning\, blomning eller överblomning \nNär du skickar in en observation godkänner du att vi får använder materialet i vårt ideella arbete\, på hemsidan och i sociala medier. Du kan när som helst be oss att ta bort det. Skicka INTE känsliga personuppgifter
URL:https://pollinera.se/event/folj-varens-forsta-steg-tillsammans-med-oss-var-med-och-dela-dina-egna-vartecken/
CATEGORIES:Familjedag,Kolla tidiga vårtecken
ATTACH;FMTTYPE=image/jpeg:https://pollinera.se/wp-content/uploads/2026/03/1000038538-scaled.jpg
ORGANIZER;CN="Pollineringsn%C3%A4tverk ' Pollinera f%C3%B6r MAt - Pollinat%C3%B6rer f%C3%B6r Frantiden'":MAILTO:angelika.egl@pollinera.se
END:VEVENT
BEGIN:VEVENT
DTSTART;TZID=UTC:20260420T180000
DTEND;TZID=UTC:20260420T200000
DTSTAMP:20260420T012534
CREATED:20260319T095523Z
LAST-MODIFIED:20260319T095540Z
UID:316-1776708000-1776715200@pollinera.se
SUMMARY:Föreläsning på biblioteket i Norsjö
DESCRIPTION:Vardagshjältar med Vingar\nEn nyfiken kväll om pollinatörer och deras liv i förändring\nFöreläsningen ger en inspirerande introduktion till pollinatörernas värld – från deras livssykler och samspel med naturen till hur klimatförändringar påverkar deras livsmiljöer. Tillsammans utforskar vi varför pollinaörer är så viktiga för biologisk mångfald och för vår egen matförsörjning \n  \n  \n 
URL:https://pollinera.se/event/forelasning-pa-biblioteket-i-norsjo/
LOCATION:Biblioteket i Norsjö\, Skolgatan 26\, Norsjö\, 935 32\, Sweden
CATEGORIES:Föreläsning
END:VEVENT
END:VCALENDAR