BEGIN:VCALENDAR
VERSION:2.0
PRODID:-//Pollineringsprojektet - ECPv6.15.17.1//NONSGML v1.0//EN
CALSCALE:GREGORIAN
METHOD:PUBLISH
X-ORIGINAL-URL:https://pollinera.se
X-WR-CALDESC:Händelser för Pollineringsprojektet
REFRESH-INTERVAL;VALUE=DURATION:PT1H
X-Robots-Tag:noindex
X-PUBLISHED-TTL:PT1H
BEGIN:VTIMEZONE
TZID:UTC
BEGIN:STANDARD
TZOFFSETFROM:+0000
TZOFFSETTO:+0000
TZNAME:UTC
DTSTART:20240101T000000
END:STANDARD
END:VTIMEZONE
BEGIN:VTIMEZONE
TZID:Europe/Stockholm
BEGIN:DAYLIGHT
TZOFFSETFROM:+0100
TZOFFSETTO:+0200
TZNAME:CEST
DTSTART:20240331T010000
END:DAYLIGHT
BEGIN:STANDARD
TZOFFSETFROM:+0200
TZOFFSETTO:+0100
TZNAME:CET
DTSTART:20241027T010000
END:STANDARD
BEGIN:DAYLIGHT
TZOFFSETFROM:+0100
TZOFFSETTO:+0200
TZNAME:CEST
DTSTART:20250330T010000
END:DAYLIGHT
BEGIN:STANDARD
TZOFFSETFROM:+0200
TZOFFSETTO:+0100
TZNAME:CET
DTSTART:20251026T010000
END:STANDARD
BEGIN:DAYLIGHT
TZOFFSETFROM:+0100
TZOFFSETTO:+0200
TZNAME:CEST
DTSTART:20260329T010000
END:DAYLIGHT
BEGIN:STANDARD
TZOFFSETFROM:+0200
TZOFFSETTO:+0100
TZNAME:CET
DTSTART:20261025T010000
END:STANDARD
END:VTIMEZONE
BEGIN:VEVENT
DTSTART;TZID=UTC:20250711T130000
DTEND;TZID=UTC:20250712T160000
DTSTAMP:20260426T032713
CREATED:20250613T100416Z
LAST-MODIFIED:20250613T134214Z
UID:81-1752238800-1752336000@pollinera.se
SUMMARY:Ängsinventering naturreservatet Dakota (Lycksele)
DESCRIPTION:Datum: 11-12 juli ( 13.00 fredag till 16.00 lördag). Enkel övernattning för ett antal personer. Möjlighet att tälta finns! \nGör intresseanmälan här! \nI år kommer inventeringarna att ha fokus på dagfjärilar och växter. De är enkla att de och identifiera även för den som är ovan. Du behöver inga förkunskaper bara ett intresse att lära och bidra!  Det är gratis att delta och vi bjuder på mat! \nBra att veta: Viktigt med bra skor och heltäckande kläder. Deltagare bär med sig egen dryck (vatten finns inte alltid att tillgå på plats men vi informerar om det i förhand)
URL:https://pollinera.se/event/angsinventering-naturreservatet-dakota-lycksele/
CATEGORIES:Ängsinventering
ATTACH;FMTTYPE=image/avif:https://pollinera.se/wp-content/uploads/2025/06/7c08231a-6b86-4578-afcd-8afe04b9e206.avif
END:VEVENT
BEGIN:VEVENT
DTSTART;TZID=Europe/Stockholm:20250713T110000
DTEND;TZID=Europe/Stockholm:20250713T160000
DTSTAMP:20260426T032713
CREATED:20250613T101142Z
LAST-MODIFIED:20250613T134320Z
UID:86-1752404400-1752422400@pollinera.se
SUMMARY:Familjedag på Skogs- och samemuseet i Lycksele
DESCRIPTION:Datum: 13 juli \nklockan: 11-16.00 \nPollinera för mat gästar skogs- och samemuseet. Vi bjuder gemensamt in till en dag med familjeaktiviteter där ni får lära om ängens blommor och insekter. Barnen får med lära sig att fånga insekter med håv\, kika på dem i burk med lupp. Vi hjälper till att identifiera arter. Vi bjuder på korv med bröd\, juice och kaffe/te (även vegetariskt alternativ). \nIngen föranmälan.
URL:https://pollinera.se/event/familjedag-pa-skogs-och-samemuseet-i-lycksele/
CATEGORIES:Familjedag
ATTACH;FMTTYPE=image/avif:https://pollinera.se/wp-content/uploads/2025/06/ea67f5ae-5670-4072-a53e-bafa500417c4.avif
END:VEVENT
BEGIN:VEVENT
DTSTART;TZID=Europe/Stockholm:20250725T130000
DTEND;TZID=Europe/Stockholm:20250726T160000
DTSTAMP:20260426T032713
CREATED:20250613T100558Z
LAST-MODIFIED:20250613T134227Z
UID:84-1753448400-1753545600@pollinera.se
SUMMARY:Ängsinventering naturreservatet Dakota (Lycksele)
DESCRIPTION:Datum: 25-26 juli (återbesök Dakota) \nEnkel övernattning finns för ett antal personer. Samma upplägg som 11-12 juli \nGör intresseanmälan här! \nI år kommer inventeringarna att ha fokus på dagfjärilar och växter. De är enkla att de och identifiera även för den som är ovan. Du behöver inga förkunskaper bara ett intresse att lära och bidra!  Det är gratis att delta och vi bjuder på mat! \nBra att veta: Viktigt med bra skor och heltäckande kläder. Deltagare bär med sig egen dryck (vatten finns inte alltid att tillgå på plats men vi informerar om det i förhand)
URL:https://pollinera.se/event/angsinventering-naturreservatet-dakota-lycksele-2/
CATEGORIES:Ängsinventering
ATTACH;FMTTYPE=image/avif:https://pollinera.se/wp-content/uploads/2025/06/7c08231a-6b86-4578-afcd-8afe04b9e206.avif
END:VEVENT
BEGIN:VEVENT
DTSTART;TZID=UTC:20260315T000000
DTEND;TZID=UTC:20260515T235959
DTSTAMP:20260426T032713
CREATED:20260311T121846Z
LAST-MODIFIED:20260311T130435Z
UID:303-1773532800-1778889599@pollinera.se
SUMMARY:Följ vårens första steg tillsammans med oss - var med och dela dina egna vårtecken!
DESCRIPTION:Dela gärna: \n\nen bild på tidig vårtecken (tussilago\, tibast\, vide\, sälg\, krokus\, hassel  – eller annat du ser)\nglöm inte att fota de första humledrottningar\, solitärbin\, fjärilar  eller andra vackra pollinatörer\ndatum\nungefärlig plats\n\nDu kan skicka dina obervationer via: \n\nDM på våra sociala medier\nmejl\neller genom att kommentera direkt under våra inlägg på Instagram\n\nAlla observationer är värdefulla  – även om du är osäkert på art eller stadium ( knoppbildning\, blomning eller överblomning \nNär du skickar in en observation godkänner du att vi får använder materialet i vårt ideella arbete\, på hemsidan och i sociala medier. Du kan när som helst be oss att ta bort det. Skicka INTE känsliga personuppgifter
URL:https://pollinera.se/event/folj-varens-forsta-steg-tillsammans-med-oss-var-med-och-dela-dina-egna-vartecken/
CATEGORIES:Familjedag,Kolla tidiga vårtecken
ATTACH;FMTTYPE=image/jpeg:https://pollinera.se/wp-content/uploads/2026/03/1000038538-scaled.jpg
ORGANIZER;CN="Pollineringsn%C3%A4tverk ' Pollinera f%C3%B6r MAt - Pollinat%C3%B6rer f%C3%B6r Frantiden'":MAILTO:angelika.egl@pollinera.se
END:VEVENT
BEGIN:VEVENT
DTSTART;TZID=UTC:20260420T180000
DTEND;TZID=UTC:20260420T200000
DTSTAMP:20260426T032713
CREATED:20260319T095523Z
LAST-MODIFIED:20260319T095540Z
UID:316-1776708000-1776715200@pollinera.se
SUMMARY:Föreläsning på biblioteket i Norsjö
DESCRIPTION:Vardagshjältar med Vingar\nEn nyfiken kväll om pollinatörer och deras liv i förändring\nFöreläsningen ger en inspirerande introduktion till pollinatörernas värld – från deras livssykler och samspel med naturen till hur klimatförändringar påverkar deras livsmiljöer. Tillsammans utforskar vi varför pollinaörer är så viktiga för biologisk mångfald och för vår egen matförsörjning \n  \n  \n 
URL:https://pollinera.se/event/forelasning-pa-biblioteket-i-norsjo/
LOCATION:Biblioteket i Norsjö\, Skolgatan 26\, Norsjö\, 935 32\, Sweden
CATEGORIES:Föreläsning
END:VEVENT
BEGIN:VEVENT
DTSTART;TZID=UTC:20260422T180000
DTEND;TZID=UTC:20260422T200000
DTSTAMP:20260426T032713
CREATED:20260319T101617Z
LAST-MODIFIED:20260319T101627Z
UID:325-1776880800-1776888000@pollinera.se
SUMMARY:Föreläsning om pollinering på biblioteket i Lycksele
DESCRIPTION:I skiftande tider: pollinering\, naturens rytm\, klimat och framtidens resiliens\nNär pollinering\, naturens rytm och klimat förändras – vad betyder det för ekosystemtjänster och vår framtida resiliens\nI en tid där naturens rytm förändras snabbare än vi hinner förstå\, påverkas allt från pollinering och fenologi till klimat och de ekosystemtjänster  som bär våra samhällen. I den här föreläsningen väver vi ihop samma lokala observationer\, forskning och praktiska erfarenheter för att se helheten bakom förändringarna. Tillsammans utforskar vi vad som står på spel – och vilka vägar som finns mot en mer resilient framtid
URL:https://pollinera.se/event/forelasning-om-pollinering-pa-biblioteket-i-lycksele/
END:VEVENT
END:VCALENDAR